BEGIN:VCALENDAR
VERSION:2.0
PRODID:-//wp-events-plugin.com//7.2.3.1//EN
TZID:Europe/Zurich
X-WR-TIMEZONE:Europe/Zurich
BEGIN:VEVENT
UID:29@srperros.bzh
DTSTART;TZID=Europe/Paris;VALUE=DATE:20261010
DTEND;TZID=Europe/Paris;VALUE=DATE:20261012
DTSTAMP:20260109T123300Z
URL:https://srperros.bzh/events/perros-lezardrieux-perros-2026/
SUMMARY:Trophée Le Junter 2026
DESCRIPTION:Régulièrement la dernière régate-rallye habitables de la sa
 ison qui se déroule généralement entre Perros Guirec et Lézardrieux ou
  les concurrents doivent utiliser au mieux les courants entre bréhat  et 
 les 7 iles ...
ATTACH;FMTTYPE=image/jpeg:https://srperros.bzh/wp-content/uploads/2024/11/
 le-Junter-2026.jpg
CATEGORIES:Rallyes,Régates
END:VEVENT
BEGIN:VTIMEZONE
TZID:Europe/Paris
X-LIC-LOCATION:Europe/Paris
BEGIN:DAYLIGHT
DTSTART:20260329T030000
TZOFFSETFROM:+0100
TZOFFSETTO:+0200
TZNAME:CEST
END:DAYLIGHT
END:VTIMEZONE
END:VCALENDAR